BEGIN:VCALENDAR
VERSION:2.0
PRODID:-//Tukios.com/
BEGIN:VEVENT
UID:5e899a6a-0051-4696-8f7b-d9829550c65e@obits.delvalcremation.com
DTSTAMP:20260421T220705Z
DTSTART:20260508T143000Z
DTEND:20260508T153000Z
SUMMARY:Mass
DESCRIPTION:Visitation will be from 9:15 to 10:15AM.

Burial will 
	follow at Greenmont Cemetery
URL:https://obits.delvalcremation.com/john-walsh
LOCATION: 3000 Cottman Avenue  Philadelphia PA 19149
GEO:40.0417909;-75.0508665
END:VEVENT
END:VCALENDAR