BEGIN:VCALENDAR
VERSION:2.0
PRODID:-//Tukios.com/
BEGIN:VEVENT
UID:5c056d7b-9f56-4530-94cc-c16ee3464cf0@obits.delvalcremation.com
DTSTAMP:20260423T195118Z
DTSTART:20260502T163000Z
DTEND:20260502T173000Z
SUMMARY:Mass
DESCRIPTION:Visitation starts at 11:30 am.
URL:https://obits.delvalcremation.com/michael-coonan
LOCATION:St. Maria Goretti Roman Catholic Church 1601 Derstine Road  
	Hatfield PA 19440
GEO:40.2864962;-75.3117816
END:VEVENT
END:VCALENDAR